BEGIN:VCALENDAR
VERSION:2.0
PRODID:-//www.arcnbc.org//NONSGML kigkonsult.se iCalcreator 2.30.10//
CALSCALE:GREGORIAN
METHOD:PUBLISH
UID:430e7b8f-7037-4c3c-b4c7-722b76b225dd
X-WR-CALDESC:
X-WR-RELCALID:94681f248ab81cabb78962a88facde56
X-WR-TIMEZONE:America/New_York
BEGIN:VTIMEZONE
TZID:America/New_York
BEGIN:STANDARD
TZNAME:EST
DTSTART:20171105T020000
TZOFFSETFROM:-0400
TZOFFSETTO:-0500
RDATE:20181104T020000
END:STANDARD
BEGIN:DAYLIGHT
TZNAME:EDT
DTSTART:20180311T020000
TZOFFSETFROM:-0500
TZOFFSETTO:-0400
RDATE:20190310T020000
END:DAYLIGHT
END:VTIMEZONE
BEGIN:VEVENT
UID:64a58ddc-b743-4352-aba1-e169cf68397b
DTSTAMP:20260423T151048Z
DESCRIPTION:
DTSTART;TZID=America/New_York:20180317T190000
DTEND;TZID=America/New_York:20180317T210000
LOCATION:Canoe River Campground
SUMMARY:St. Patricks Dance
END:VEVENT
END:VCALENDAR
