BEGIN:VCALENDAR
VERSION:2.0
PRODID:-//www.arcnbc.org//NONSGML kigkonsult.se iCalcreator 2.30.10//
CALSCALE:GREGORIAN
METHOD:PUBLISH
UID:29b22d06-fb19-4466-9fad-85356e943ed6
X-WR-CALDESC:
X-WR-RELCALID:ea4cae69357894c0afe204e32ccf0827
X-WR-TIMEZONE:America/New_York
BEGIN:VTIMEZONE
TZID:America/New_York
BEGIN:STANDARD
TZNAME:EST
DTSTART:20171105T020000
TZOFFSETFROM:-0400
TZOFFSETTO:-0500
RDATE:20181104T020000
END:STANDARD
BEGIN:DAYLIGHT
TZNAME:EDT
DTSTART:20180311T020000
TZOFFSETFROM:-0500
TZOFFSETTO:-0400
RDATE:20190310T020000
END:DAYLIGHT
END:VTIMEZONE
BEGIN:VEVENT
UID:af4a7139-3add-48e2-a162-4e40b2cdcb04
DTSTAMP:20260423T133811Z
DESCRIPTION:
DTSTART;TZID=America/New_York:20180319T150000
DTEND;TZID=America/New_York:20180319T170000
LOCATION:TARC
SUMMARY:Indoor Exercise
END:VEVENT
END:VCALENDAR
