BEGIN:VCALENDAR
VERSION:2.0
PRODID:-//www.arcnbc.org//NONSGML kigkonsult.se iCalcreator 2.30.10//
CALSCALE:GREGORIAN
METHOD:PUBLISH
UID:9e2d7dff-f7f2-4265-b37a-25820a11784f
X-WR-CALDESC:
X-WR-RELCALID:25e0ad3c01da07bf7302dbdf38cf20fd
X-WR-TIMEZONE:America/New_York
BEGIN:VTIMEZONE
TZID:America/New_York
BEGIN:STANDARD
TZNAME:EST
DTSTART:20171105T020000
TZOFFSETFROM:-0400
TZOFFSETTO:-0500
RDATE:20181104T020000
END:STANDARD
BEGIN:DAYLIGHT
TZNAME:EDT
DTSTART:20180311T020000
TZOFFSETFROM:-0500
TZOFFSETTO:-0400
RDATE:20190310T020000
END:DAYLIGHT
END:VTIMEZONE
BEGIN:VEVENT
UID:923026a4-a2db-4328-8632-70d497eea0dd
DTSTAMP:20260423T134043Z
DESCRIPTION:
DTSTART;TZID=America/New_York:20180319T173000
DTEND;TZID=America/New_York:20180319T183000
LOCATION:Arc Attleboro
SUMMARY:Self Advocacy Meeting
END:VEVENT
END:VCALENDAR
