BEGIN:VCALENDAR
VERSION:2.0
PRODID:-//www.arcnbc.org//NONSGML kigkonsult.se iCalcreator 2.30.10//
CALSCALE:GREGORIAN
METHOD:PUBLISH
UID:82447724-2354-4d00-93af-1b51ae3e17cd
X-WR-CALDESC:
X-WR-RELCALID:eda850dc30dc8f08759ad3450d01da9b
X-WR-TIMEZONE:America/New_York
BEGIN:VTIMEZONE
TZID:America/New_York
BEGIN:STANDARD
TZNAME:EST
DTSTART:20171105T020000
TZOFFSETFROM:-0400
TZOFFSETTO:-0500
RDATE:20181104T020000
END:STANDARD
BEGIN:DAYLIGHT
TZNAME:EDT
DTSTART:20180311T020000
TZOFFSETFROM:-0500
TZOFFSETTO:-0400
RDATE:20190310T020000
END:DAYLIGHT
END:VTIMEZONE
BEGIN:VEVENT
UID:571793d1-a6f1-4a5b-a501-f31c29fdc87f
DTSTAMP:20260423T133041Z
DESCRIPTION:
DTSTART;TZID=America/New_York:20180320T150000
DTEND;TZID=America/New_York:20180320T170000
LOCATION:TARC
SUMMARY:Current Events
END:VEVENT
END:VCALENDAR
