BEGIN:VCALENDAR
VERSION:2.0
PRODID:-//www.arcnbc.org//NONSGML kigkonsult.se iCalcreator 2.30.10//
CALSCALE:GREGORIAN
METHOD:PUBLISH
UID:cbf80aea-5367-4d3f-8477-d21b76ecc3de
X-WR-CALDESC:
X-WR-RELCALID:e438d11a11fc3a1aea7a4689b26400b8
X-WR-TIMEZONE:America/New_York
BEGIN:VTIMEZONE
TZID:America/New_York
BEGIN:STANDARD
TZNAME:EST
DTSTART:20171105T020000
TZOFFSETFROM:-0400
TZOFFSETTO:-0500
RDATE:20181104T020000
END:STANDARD
BEGIN:DAYLIGHT
TZNAME:EDT
DTSTART:20180311T020000
TZOFFSETFROM:-0500
TZOFFSETTO:-0400
RDATE:20190310T020000
END:DAYLIGHT
END:VTIMEZONE
BEGIN:VEVENT
UID:3ad618ac-f4c3-4d1e-bbc8-780f55c509a1
DTSTAMP:20260423T133957Z
DESCRIPTION:
DTSTART;TZID=America/New_York:20180321T150000
DTEND;TZID=America/New_York:20180321T170000
LOCATION:TARC
SUMMARY:Bingo-CANCELLED
END:VEVENT
END:VCALENDAR
