BEGIN:VCALENDAR
VERSION:2.0
PRODID:-//www.arcnbc.org//NONSGML kigkonsult.se iCalcreator 2.30.10//
CALSCALE:GREGORIAN
METHOD:PUBLISH
UID:fc93721f-ffac-445a-b7e3-a1aa15ec3c35
X-WR-CALDESC:
X-WR-RELCALID:f0adb5bab862631519f6d20cc8960c7a
X-WR-TIMEZONE:America/New_York
BEGIN:VTIMEZONE
TZID:America/New_York
BEGIN:STANDARD
TZNAME:EST
DTSTART:20171105T020000
TZOFFSETFROM:-0400
TZOFFSETTO:-0500
RDATE:20181104T020000
END:STANDARD
BEGIN:DAYLIGHT
TZNAME:EDT
DTSTART:20180311T020000
TZOFFSETFROM:-0500
TZOFFSETTO:-0400
RDATE:20190310T020000
END:DAYLIGHT
END:VTIMEZONE
BEGIN:VEVENT
UID:3a5c441c-d521-4096-a5b0-56d0dae68914
DTSTAMP:20260423T133811Z
DESCRIPTION:
DTSTART;TZID=America/New_York:20180321T160000
DTEND;TZID=America/New_York:20180321T190000
LOCATION:Arc Attleboro
SUMMARY:Karate-CANCELLED
END:VEVENT
END:VCALENDAR
