BEGIN:VCALENDAR
VERSION:2.0
PRODID:-//www.arcnbc.org//NONSGML kigkonsult.se iCalcreator 2.30.10//
CALSCALE:GREGORIAN
METHOD:PUBLISH
UID:fbe0bcd7-f30c-4652-ab06-58e49acfbd59
X-WR-CALDESC:
X-WR-RELCALID:240864bf2e25a38f1b2f98756a019533
X-WR-TIMEZONE:America/New_York
BEGIN:VTIMEZONE
TZID:America/New_York
BEGIN:STANDARD
TZNAME:EST
DTSTART:20171105T020000
TZOFFSETFROM:-0400
TZOFFSETTO:-0500
RDATE:20181104T020000
END:STANDARD
BEGIN:DAYLIGHT
TZNAME:EDT
DTSTART:20180311T020000
TZOFFSETFROM:-0500
TZOFFSETTO:-0400
RDATE:20190310T020000
END:DAYLIGHT
END:VTIMEZONE
BEGIN:VEVENT
UID:ebe3843f-de12-4989-889e-797e25abd90c
DTSTAMP:20260423T134031Z
DESCRIPTION:
DTSTART;TZID=America/New_York:20180322T090000
DTEND;TZID=America/New_York:20180322T160000
LOCATION:New Bedford office
SUMMARY:First Aid/CPR N. Bedford-CANCELLED
END:VEVENT
END:VCALENDAR
