BEGIN:VCALENDAR
VERSION:2.0
PRODID:-//www.arcnbc.org//NONSGML kigkonsult.se iCalcreator 2.30.10//
CALSCALE:GREGORIAN
METHOD:PUBLISH
UID:3f18e576-eb0f-430f-b558-1e9cdea7fe4d
X-WR-CALDESC:
X-WR-RELCALID:1cb736441ce5c15c66ba747357335387
X-WR-TIMEZONE:America/New_York
BEGIN:VTIMEZONE
TZID:America/New_York
BEGIN:STANDARD
TZNAME:EST
DTSTART:20171105T020000
TZOFFSETFROM:-0400
TZOFFSETTO:-0500
RDATE:20181104T020000
END:STANDARD
BEGIN:DAYLIGHT
TZNAME:EDT
DTSTART:20180311T020000
TZOFFSETFROM:-0500
TZOFFSETTO:-0400
RDATE:20190310T020000
END:DAYLIGHT
END:VTIMEZONE
BEGIN:VEVENT
UID:cdc49686-9d3c-432d-895e-d1d7c534c2c5
DTSTAMP:20260423T134024Z
DESCRIPTION:
DTSTART;TZID=America/New_York:20180322T163000
DTEND;TZID=America/New_York:20180322T190000
LOCATION:TARC
SUMMARY:Movie Night-CANCELLED
END:VEVENT
END:VCALENDAR
