BEGIN:VCALENDAR
VERSION:2.0
PRODID:-//www.arcnbc.org//NONSGML kigkonsult.se iCalcreator 2.30.10//
CALSCALE:GREGORIAN
METHOD:PUBLISH
UID:a1b08f53-4ce8-4d66-918e-cb2667bc74e6
X-WR-CALDESC:
X-WR-RELCALID:27653d0e6fa87c1ccc2b23412fde15ea
X-WR-TIMEZONE:America/New_York
BEGIN:VTIMEZONE
TZID:America/New_York
BEGIN:STANDARD
TZNAME:EST
DTSTART:20171105T020000
TZOFFSETFROM:-0400
TZOFFSETTO:-0500
RDATE:20181104T020000
END:STANDARD
BEGIN:DAYLIGHT
TZNAME:EDT
DTSTART:20180311T020000
TZOFFSETFROM:-0500
TZOFFSETTO:-0400
RDATE:20190310T020000
END:DAYLIGHT
END:VTIMEZONE
BEGIN:VEVENT
UID:4d36dafc-7e57-436b-851c-c6522be1f5e2
DTSTAMP:20260423T133156Z
DESCRIPTION:
DTSTART;TZID=America/New_York:20180324T090000
DTEND;TZID=America/New_York:20180324T160000
LOCATION:Attleboro office
SUMMARY:NCI Attleboro office
END:VEVENT
END:VCALENDAR
