BEGIN:VCALENDAR
VERSION:2.0
PRODID:-//www.arcnbc.org//NONSGML kigkonsult.se iCalcreator 2.30.10//
CALSCALE:GREGORIAN
METHOD:PUBLISH
UID:22940401-04d9-4a2b-8d64-f958b7b35ff9
X-WR-CALDESC:
X-WR-RELCALID:12b6481e403aa26e396e8c65e17220e2
X-WR-TIMEZONE:America/New_York
BEGIN:VTIMEZONE
TZID:America/New_York
BEGIN:STANDARD
TZNAME:EST
DTSTART:20171105T020000
TZOFFSETFROM:-0400
TZOFFSETTO:-0500
RDATE:20181104T020000
END:STANDARD
BEGIN:DAYLIGHT
TZNAME:EDT
DTSTART:20180311T020000
TZOFFSETFROM:-0500
TZOFFSETTO:-0400
RDATE:20190310T020000
END:DAYLIGHT
END:VTIMEZONE
BEGIN:VEVENT
UID:5ef7a52a-6122-4dfb-94f8-a58977a7d6b4
DTSTAMP:20260423T133848Z
DESCRIPTION:
DTSTART;TZID=America/New_York:20180326T150000
DTEND;TZID=America/New_York:20180326T170000
LOCATION:TARC
SUMMARY:Games
END:VEVENT
END:VCALENDAR
