BEGIN:VCALENDAR
VERSION:2.0
PRODID:-//www.arcnbc.org//NONSGML kigkonsult.se iCalcreator 2.30.10//
CALSCALE:GREGORIAN
METHOD:PUBLISH
UID:9156ad39-b8da-4d38-935d-13d174f74708
X-WR-CALDESC:
X-WR-RELCALID:4cd5c8603ba51e93d80d61191f7a149e
X-WR-TIMEZONE:America/New_York
BEGIN:VTIMEZONE
TZID:America/New_York
BEGIN:STANDARD
TZNAME:EST
DTSTART:20171105T020000
TZOFFSETFROM:-0400
TZOFFSETTO:-0500
RDATE:20181104T020000
END:STANDARD
BEGIN:DAYLIGHT
TZNAME:EDT
DTSTART:20180311T020000
TZOFFSETFROM:-0500
TZOFFSETTO:-0400
RDATE:20190310T020000
END:DAYLIGHT
END:VTIMEZONE
BEGIN:VEVENT
UID:7d2595d0-c41d-4c1c-adec-984bd7058f97
DTSTAMP:20260423T152002Z
DESCRIPTION:
DTSTART;TZID=America/New_York:20180327T173000
DTEND;TZID=America/New_York:20180327T183000
LOCATION:TARC
SUMMARY:Zumba
END:VEVENT
END:VCALENDAR
