BEGIN:VCALENDAR
VERSION:2.0
PRODID:-//www.arcnbc.org//NONSGML kigkonsult.se iCalcreator 2.30.10//
CALSCALE:GREGORIAN
METHOD:PUBLISH
UID:9f32f045-560d-4f85-ae1c-bd4283bfeff9
X-WR-CALDESC:
X-WR-RELCALID:5926f7c3cc012361addb0836fcbf72d9
X-WR-TIMEZONE:America/New_York
BEGIN:VTIMEZONE
TZID:America/New_York
BEGIN:STANDARD
TZNAME:EST
DTSTART:20171105T020000
TZOFFSETFROM:-0400
TZOFFSETTO:-0500
RDATE:20181104T020000
END:STANDARD
BEGIN:DAYLIGHT
TZNAME:EDT
DTSTART:20180311T020000
TZOFFSETFROM:-0500
TZOFFSETTO:-0400
RDATE:20190310T020000
END:DAYLIGHT
END:VTIMEZONE
BEGIN:VEVENT
UID:cc89e77e-9e23-4088-aa33-79877478bf7e
DTSTAMP:20260423T133153Z
DESCRIPTION:
DTSTART;TZID=America/New_York:20180327T150000
DTEND;TZID=America/New_York:20180327T170000
LOCATION:TARC
SUMMARY:Emergency Preparedness Class
END:VEVENT
END:VCALENDAR
