BEGIN:VCALENDAR
VERSION:2.0
PRODID:-//www.arcnbc.org//NONSGML kigkonsult.se iCalcreator 2.30.10//
CALSCALE:GREGORIAN
METHOD:PUBLISH
UID:69a37f1e-2524-42fc-81ad-c82cf82e65e6
X-WR-CALDESC:
X-WR-RELCALID:dc017656a9cb83758c652ca6789005de
X-WR-TIMEZONE:America/New_York
BEGIN:VTIMEZONE
TZID:America/New_York
BEGIN:STANDARD
TZNAME:EST
DTSTART:20171105T020000
TZOFFSETFROM:-0400
TZOFFSETTO:-0500
RDATE:20181104T020000
END:STANDARD
BEGIN:DAYLIGHT
TZNAME:EDT
DTSTART:20180311T020000
TZOFFSETFROM:-0500
TZOFFSETTO:-0400
RDATE:20190310T020000
END:DAYLIGHT
END:VTIMEZONE
BEGIN:VEVENT
UID:0db112a4-e571-4af1-8c5f-a70ca9d966ba
DTSTAMP:20260423T133143Z
DESCRIPTION:
DTSTART;TZID=America/New_York:20180329T190000
DTEND;TZID=America/New_York:20180329T210000
LOCATION:PACC- Taunton
SUMMARY:Fran's Dance
END:VEVENT
END:VCALENDAR
