BEGIN:VCALENDAR
VERSION:2.0
PRODID:-//www.arcnbc.org//NONSGML kigkonsult.se iCalcreator 2.30.10//
CALSCALE:GREGORIAN
METHOD:PUBLISH
UID:d47be03c-5604-4dd2-9089-ce429a3c6eeb
X-WR-CALDESC:
X-WR-RELCALID:9eedcfeaefd3f871ee16d88460f31e63
X-WR-TIMEZONE:America/New_York
BEGIN:VTIMEZONE
TZID:America/New_York
BEGIN:STANDARD
TZNAME:EST
DTSTART:20171105T020000
TZOFFSETFROM:-0400
TZOFFSETTO:-0500
RDATE:20181104T020000
END:STANDARD
BEGIN:DAYLIGHT
TZNAME:EDT
DTSTART:20180311T020000
TZOFFSETFROM:-0500
TZOFFSETTO:-0400
RDATE:20190310T020000
END:DAYLIGHT
END:VTIMEZONE
BEGIN:VEVENT
UID:5f675061-74d3-498d-9638-fde9bedb15c7
DTSTAMP:20260423T133809Z
DESCRIPTION:
DTSTART;TZID=America/New_York:20180403T173000
DTEND;TZID=America/New_York:20180403T183000
LOCATION:TARC
SUMMARY:Zumba
END:VEVENT
END:VCALENDAR
