BEGIN:VCALENDAR
VERSION:2.0
PRODID:-//www.arcnbc.org//NONSGML kigkonsult.se iCalcreator 2.30.10//
CALSCALE:GREGORIAN
METHOD:PUBLISH
UID:4fbc5e34-7ff7-4e9a-87a1-6d4eef429c64
X-WR-CALDESC:
X-WR-RELCALID:7577cea9803d1b0f4bbedd636652f166
X-WR-TIMEZONE:America/New_York
BEGIN:VTIMEZONE
TZID:America/New_York
BEGIN:STANDARD
TZNAME:EST
DTSTART:20171105T020000
TZOFFSETFROM:-0400
TZOFFSETTO:-0500
RDATE:20181104T020000
END:STANDARD
BEGIN:DAYLIGHT
TZNAME:EDT
DTSTART:20180311T020000
TZOFFSETFROM:-0500
TZOFFSETTO:-0400
RDATE:20190310T020000
END:DAYLIGHT
END:VTIMEZONE
BEGIN:VEVENT
UID:a5598152-6b98-445c-bb99-1d427816e973
DTSTAMP:20260423T134159Z
DESCRIPTION:
DTSTART;TZID=America/New_York:20180405T163000
DTEND;TZID=America/New_York:20180405T190000
LOCATION:TARC
SUMMARY:Movie Night
END:VEVENT
END:VCALENDAR
