BEGIN:VCALENDAR
VERSION:2.0
PRODID:-//www.arcnbc.org//NONSGML kigkonsult.se iCalcreator 2.30.10//
CALSCALE:GREGORIAN
METHOD:PUBLISH
UID:b356f063-a537-4f2e-bc9a-7eb6b4e3a4d9
X-WR-CALDESC:
X-WR-RELCALID:26eefa9cc7bb1508b5e7d6cfb183fd9c
X-WR-TIMEZONE:America/New_York
BEGIN:VTIMEZONE
TZID:America/New_York
BEGIN:STANDARD
TZNAME:EST
DTSTART:20171105T020000
TZOFFSETFROM:-0400
TZOFFSETTO:-0500
RDATE:20181104T020000
END:STANDARD
BEGIN:DAYLIGHT
TZNAME:EDT
DTSTART:20180311T020000
TZOFFSETFROM:-0500
TZOFFSETTO:-0400
RDATE:20190310T020000
END:DAYLIGHT
END:VTIMEZONE
BEGIN:VEVENT
UID:5706664b-99c2-4e39-813d-b63ec0366ed1
DTSTAMP:20260423T152129Z
DESCRIPTION:
DTSTART;TZID=America/New_York:20180406T180000
DTEND;TZID=America/New_York:20180406T213000
LOCATION:Wheaton College
SUMMARY:Wheaton Women's Rugby Game
END:VEVENT
END:VCALENDAR
