BEGIN:VCALENDAR
VERSION:2.0
PRODID:-//www.arcnbc.org//NONSGML kigkonsult.se iCalcreator 2.30.10//
CALSCALE:GREGORIAN
METHOD:PUBLISH
UID:632081f8-8bba-4b68-8ead-60a3bedfcc3b
X-WR-CALDESC:
X-WR-RELCALID:2509604e1776af5bcf93c3125453f9e4
X-WR-TIMEZONE:America/New_York
BEGIN:VTIMEZONE
TZID:America/New_York
BEGIN:STANDARD
TZNAME:EST
DTSTART:20171105T020000
TZOFFSETFROM:-0400
TZOFFSETTO:-0500
RDATE:20181104T020000
END:STANDARD
BEGIN:DAYLIGHT
TZNAME:EDT
DTSTART:20180311T020000
TZOFFSETFROM:-0500
TZOFFSETTO:-0400
RDATE:20190310T020000
END:DAYLIGHT
END:VTIMEZONE
BEGIN:VEVENT
UID:3f2838fa-92ab-4d2f-b23b-d5cc8160605b
DTSTAMP:20260423T133045Z
DESCRIPTION:
DTSTART;TZID=America/New_York:20180410T180000
DTEND;TZID=America/New_York:20180410T200000
LOCATION:E. Providence Lanes
SUMMARY:Bowling
END:VEVENT
END:VCALENDAR
