BEGIN:VCALENDAR
VERSION:2.0
PRODID:-//www.arcnbc.org//NONSGML kigkonsult.se iCalcreator 2.30.10//
CALSCALE:GREGORIAN
METHOD:PUBLISH
UID:7646430b-3a6d-467f-ab67-0a918022d2cc
X-WR-CALDESC:Financial Planning presentation. Presenters will assist partic
 ipants in: Preserving Benefits through Estate Planning (Rich Harwood)\; Na
 vigating Social Security (Heather Hobson)\; and Special Needs Trusts (Jenn
 ifer Sweet)
X-WR-RELCALID:3e3baaac2ba5e6ce70f9f4e1fe05e0fe
X-WR-TIMEZONE:America/New_York
BEGIN:VTIMEZONE
TZID:America/New_York
BEGIN:STANDARD
TZNAME:EST
DTSTART:20171105T020000
TZOFFSETFROM:-0400
TZOFFSETTO:-0500
RDATE:20181104T020000
END:STANDARD
BEGIN:DAYLIGHT
TZNAME:EDT
DTSTART:20180311T020000
TZOFFSETFROM:-0500
TZOFFSETTO:-0400
RDATE:20190310T020000
END:DAYLIGHT
END:VTIMEZONE
BEGIN:VEVENT
UID:fe12da18-8181-4e32-bfc6-72e6a23bd32e
DTSTAMP:20260423T133232Z
DESCRIPTION:Financial Planning presentation. Presenters will assist partici
 pants in: Preserving Benefits through Estate Planning (Rich Harwood)\; Nav
 igating Social Security (Heather Hobson)\; and Special Needs Trusts (Jenni
 fer Sweet)
DTSTART;TZID=America/New_York:20180410T180000
DTEND;TZID=America/New_York:20180410T200000
LOCATION:284 John L. Dietsch Blvd\, N. Attleboro\, MA
SUMMARY:Planning for the Future
END:VEVENT
END:VCALENDAR
