BEGIN:VCALENDAR
VERSION:2.0
PRODID:-//www.arcnbc.org//NONSGML kigkonsult.se iCalcreator 2.30.10//
CALSCALE:GREGORIAN
METHOD:PUBLISH
UID:e573eb27-dcae-4a41-8712-bb2e4740eb38
X-WR-CALDESC:
X-WR-RELCALID:dd28886dc5f30dd6999de69d72138e8a
X-WR-TIMEZONE:America/New_York
BEGIN:VTIMEZONE
TZID:America/New_York
BEGIN:STANDARD
TZNAME:EST
DTSTART:20171105T020000
TZOFFSETFROM:-0400
TZOFFSETTO:-0500
RDATE:20181104T020000
END:STANDARD
BEGIN:DAYLIGHT
TZNAME:EDT
DTSTART:20180311T020000
TZOFFSETFROM:-0500
TZOFFSETTO:-0400
RDATE:20190310T020000
END:DAYLIGHT
END:VTIMEZONE
BEGIN:VEVENT
UID:155de69f-c952-4a7e-a8d7-d3e0886d3c78
DTSTAMP:20260423T134031Z
DESCRIPTION:
DTSTART;TZID=America/New_York:20180411T150000
DTEND;TZID=America/New_York:20180411T170000
LOCATION:TARC
SUMMARY:Arts & Crafts
END:VEVENT
END:VCALENDAR
