BEGIN:VCALENDAR
VERSION:2.0
PRODID:-//www.arcnbc.org//NONSGML kigkonsult.se iCalcreator 2.30.10//
CALSCALE:GREGORIAN
METHOD:PUBLISH
UID:f0069745-424a-44ff-8116-677e1167601a
X-WR-CALDESC:
X-WR-RELCALID:32e4ea5b729e1199822fe93bb67742b9
X-WR-TIMEZONE:America/New_York
BEGIN:VTIMEZONE
TZID:America/New_York
BEGIN:STANDARD
TZNAME:EST
DTSTART:20171105T020000
TZOFFSETFROM:-0400
TZOFFSETTO:-0500
RDATE:20181104T020000
END:STANDARD
BEGIN:DAYLIGHT
TZNAME:EDT
DTSTART:20180311T020000
TZOFFSETFROM:-0500
TZOFFSETTO:-0400
RDATE:20190310T020000
END:DAYLIGHT
END:VTIMEZONE
BEGIN:VEVENT
UID:73e064b1-1fda-4612-b61f-73d94636edc0
DTSTAMP:20260423T133642Z
DESCRIPTION:
DTSTART;TZID=America/New_York:20180411T161500
DTEND;TZID=America/New_York:20180411T190000
LOCATION:Attleboro Arc Park Street
SUMMARY:Karate
END:VEVENT
END:VCALENDAR
