BEGIN:VCALENDAR
VERSION:2.0
PRODID:-//www.arcnbc.org//NONSGML kigkonsult.se iCalcreator 2.30.10//
CALSCALE:GREGORIAN
METHOD:PUBLISH
UID:9b3c9de2-7741-4759-8084-c10afdd94640
X-WR-CALDESC:
X-WR-RELCALID:ca6ea3981f46201b14e9b18c4893c529
X-WR-TIMEZONE:America/New_York
BEGIN:VTIMEZONE
TZID:America/New_York
BEGIN:STANDARD
TZNAME:EST
DTSTART:20171105T020000
TZOFFSETFROM:-0400
TZOFFSETTO:-0500
RDATE:20181104T020000
END:STANDARD
BEGIN:DAYLIGHT
TZNAME:EDT
DTSTART:20180311T020000
TZOFFSETFROM:-0500
TZOFFSETTO:-0400
RDATE:20190310T020000
END:DAYLIGHT
END:VTIMEZONE
BEGIN:VEVENT
UID:f1fca128-381c-454d-a6e2-ef2389e076a7
DTSTAMP:20260423T133322Z
DESCRIPTION:
DTSTART;TZID=America/New_York:20180411T100000
DTEND;TZID=America/New_York:20180411T160000
LOCATION:Smithfield office
SUMMARY:Orientation\, Smithfield office
END:VEVENT
END:VCALENDAR
