BEGIN:VCALENDAR
VERSION:2.0
PRODID:-//www.arcnbc.org//NONSGML kigkonsult.se iCalcreator 2.30.10//
CALSCALE:GREGORIAN
METHOD:PUBLISH
UID:4616a619-272e-44a6-9185-3b5f5e7f6625
X-WR-CALDESC:
X-WR-RELCALID:9b3ad816203e2bc6d291d50dbae2a6f4
X-WR-TIMEZONE:America/New_York
BEGIN:VTIMEZONE
TZID:America/New_York
BEGIN:STANDARD
TZNAME:EST
DTSTART:20171105T020000
TZOFFSETFROM:-0400
TZOFFSETTO:-0500
RDATE:20181104T020000
END:STANDARD
BEGIN:DAYLIGHT
TZNAME:EDT
DTSTART:20180311T020000
TZOFFSETFROM:-0500
TZOFFSETTO:-0400
RDATE:20190310T020000
END:DAYLIGHT
END:VTIMEZONE
BEGIN:VEVENT
UID:6191b18d-ee99-4e46-bbce-d0904ff214ca
DTSTAMP:20260423T133154Z
DESCRIPTION:
DTSTART;TZID=America/New_York:20180413T090000
DTEND;TZID=America/New_York:20180413T160000
LOCATION:Smithfield office
SUMMARY:NCI\, Smithfield office
END:VEVENT
END:VCALENDAR
