BEGIN:VCALENDAR
VERSION:2.0
PRODID:-//www.arcnbc.org//NONSGML kigkonsult.se iCalcreator 2.30.10//
CALSCALE:GREGORIAN
METHOD:PUBLISH
UID:4459c56e-b362-499a-bb0b-c5beaaba4e1a
X-WR-CALDESC:
X-WR-RELCALID:aea690f69a218f2ebc284ae08031af89
X-WR-TIMEZONE:America/New_York
BEGIN:VTIMEZONE
TZID:America/New_York
BEGIN:STANDARD
TZNAME:EST
DTSTART:20171105T020000
TZOFFSETFROM:-0400
TZOFFSETTO:-0500
RDATE:20181104T020000
END:STANDARD
BEGIN:DAYLIGHT
TZNAME:EDT
DTSTART:20180311T020000
TZOFFSETFROM:-0500
TZOFFSETTO:-0400
RDATE:20190310T020000
END:DAYLIGHT
END:VTIMEZONE
BEGIN:VEVENT
UID:63548eb1-ed3a-4b06-8602-054fdb1b857e
DTSTAMP:20260423T134157Z
DESCRIPTION:
DTSTART;TZID=America/New_York:20180413T150000
DTEND;TZID=America/New_York:20180413T160000
LOCATION:Weber Theatre\, Watson Fine Arts
SUMMARY:The Glass Menagerie\, Wheaton College
END:VEVENT
END:VCALENDAR
