BEGIN:VCALENDAR
VERSION:2.0
PRODID:-//www.arcnbc.org//NONSGML kigkonsult.se iCalcreator 2.30.10//
CALSCALE:GREGORIAN
METHOD:PUBLISH
UID:9d1f9e2f-d4a8-492a-8b46-f43e6d1196f7
X-WR-CALDESC:
X-WR-RELCALID:3e551c7a403a56d2d294095f72fe1d20
X-WR-TIMEZONE:America/New_York
BEGIN:VTIMEZONE
TZID:America/New_York
BEGIN:STANDARD
TZNAME:EST
DTSTART:20171105T020000
TZOFFSETFROM:-0400
TZOFFSETTO:-0500
RDATE:20181104T020000
END:STANDARD
BEGIN:DAYLIGHT
TZNAME:EDT
DTSTART:20180311T020000
TZOFFSETFROM:-0500
TZOFFSETTO:-0400
RDATE:20190310T020000
END:DAYLIGHT
END:VTIMEZONE
BEGIN:VEVENT
UID:2c805116-b2ff-4d28-8179-b4301f3e22c9
DTSTAMP:20260423T133809Z
DESCRIPTION:
DTSTART;TZID=America/New_York:20180416T170000
DTEND;TZID=America/New_York:20180416T190000
LOCATION:TARC
SUMMARY:Barn Babies Petting Zoo
END:VEVENT
END:VCALENDAR
