BEGIN:VCALENDAR
VERSION:2.0
PRODID:-//www.arcnbc.org//NONSGML kigkonsult.se iCalcreator 2.30.10//
CALSCALE:GREGORIAN
METHOD:PUBLISH
UID:42d43704-b2e2-4e2c-b916-058e6167ceca
X-WR-CALDESC:
X-WR-RELCALID:d2b9e211ecb6a289fbd6a1066c746139
X-WR-TIMEZONE:America/New_York
BEGIN:VTIMEZONE
TZID:America/New_York
BEGIN:STANDARD
TZNAME:EST
DTSTART:20171105T020000
TZOFFSETFROM:-0400
TZOFFSETTO:-0500
RDATE:20181104T020000
END:STANDARD
BEGIN:DAYLIGHT
TZNAME:EDT
DTSTART:20180311T020000
TZOFFSETFROM:-0500
TZOFFSETTO:-0400
RDATE:20190310T020000
END:DAYLIGHT
END:VTIMEZONE
BEGIN:VEVENT
UID:e937e14b-d21a-4f69-bed5-06027c6542d8
DTSTAMP:20260423T133809Z
DESCRIPTION:
DTSTART;TZID=America/New_York:20180417T173000
DTEND;TZID=America/New_York:20180417T183000
LOCATION:TARC
SUMMARY:Zumba
END:VEVENT
END:VCALENDAR
