BEGIN:VCALENDAR
VERSION:2.0
PRODID:-//www.arcnbc.org//NONSGML kigkonsult.se iCalcreator 2.30.10//
CALSCALE:GREGORIAN
METHOD:PUBLISH
UID:99e8873d-bba1-41fe-a3e5-19926324dce3
X-WR-CALDESC:
X-WR-RELCALID:f2f638d50f8a5a354d7fedb790eff350
X-WR-TIMEZONE:America/New_York
BEGIN:VTIMEZONE
TZID:America/New_York
BEGIN:STANDARD
TZNAME:EST
DTSTART:20171105T020000
TZOFFSETFROM:-0400
TZOFFSETTO:-0500
RDATE:20181104T020000
END:STANDARD
BEGIN:DAYLIGHT
TZNAME:EDT
DTSTART:20180311T020000
TZOFFSETFROM:-0500
TZOFFSETTO:-0400
RDATE:20190310T020000
END:DAYLIGHT
END:VTIMEZONE
BEGIN:VEVENT
UID:e0180443-f8d3-48d4-8488-cb9c85f3b05f
DTSTAMP:20260423T133957Z
DESCRIPTION:
DTSTART;TZID=America/New_York:20180418T150000
DTEND;TZID=America/New_York:20180418T170000
LOCATION:TARC
SUMMARY:Bingo
END:VEVENT
END:VCALENDAR
