BEGIN:VCALENDAR
VERSION:2.0
PRODID:-//www.arcnbc.org//NONSGML kigkonsult.se iCalcreator 2.30.10//
CALSCALE:GREGORIAN
METHOD:PUBLISH
UID:6ccae4c7-ef86-4a90-9cac-c7d3933991d5
X-WR-CALDESC:
X-WR-RELCALID:318aabf87323cd87b9be2ba2fadb4331
X-WR-TIMEZONE:America/New_York
BEGIN:VTIMEZONE
TZID:America/New_York
BEGIN:STANDARD
TZNAME:EST
DTSTART:20171105T020000
TZOFFSETFROM:-0400
TZOFFSETTO:-0500
RDATE:20181104T020000
END:STANDARD
BEGIN:DAYLIGHT
TZNAME:EDT
DTSTART:20180311T020000
TZOFFSETFROM:-0500
TZOFFSETTO:-0400
RDATE:20190310T020000
END:DAYLIGHT
END:VTIMEZONE
BEGIN:VEVENT
UID:ee3e41e6-3279-4d79-b91e-ea26720d3500
DTSTAMP:20260423T133642Z
DESCRIPTION:
DTSTART;TZID=America/New_York:20180418T161500
DTEND;TZID=America/New_York:20180418T190000
LOCATION:Attleboro Arc Park Street
SUMMARY:Karate
END:VEVENT
END:VCALENDAR
