BEGIN:VCALENDAR
VERSION:2.0
PRODID:-//www.arcnbc.org//NONSGML kigkonsult.se iCalcreator 2.30.10//
CALSCALE:GREGORIAN
METHOD:PUBLISH
UID:d76bc714-672d-45c5-acb0-7f2773a4b8ee
X-WR-CALDESC:
X-WR-RELCALID:7d58d599eb54fbf036a654708aaa6011
X-WR-TIMEZONE:America/New_York
BEGIN:VTIMEZONE
TZID:America/New_York
BEGIN:STANDARD
TZNAME:EST
DTSTART:20171105T020000
TZOFFSETFROM:-0400
TZOFFSETTO:-0500
RDATE:20181104T020000
END:STANDARD
BEGIN:DAYLIGHT
TZNAME:EDT
DTSTART:20180311T020000
TZOFFSETFROM:-0500
TZOFFSETTO:-0400
RDATE:20190310T020000
END:DAYLIGHT
END:VTIMEZONE
BEGIN:VEVENT
UID:782da600-0669-41cf-89b2-f2b3a1f7d85e
DTSTAMP:20260423T133035Z
DESCRIPTION:
DTSTART;TZID=America/New_York:20180420T190000
DTEND;TZID=America/New_York:20180420T210000
LOCATION:Attleboro YMCA\, Pleasant St. Branch
SUMMARY:GO Night
END:VEVENT
END:VCALENDAR
