BEGIN:VCALENDAR
VERSION:2.0
PRODID:-//www.arcnbc.org//NONSGML kigkonsult.se iCalcreator 2.30.10//
CALSCALE:GREGORIAN
METHOD:PUBLISH
UID:b9cf1449-731e-47a3-8d61-0c8f2d2f1796
X-WR-CALDESC:
X-WR-RELCALID:419b9221ac19c10cc09e5b68319e55fe
X-WR-TIMEZONE:America/New_York
BEGIN:VTIMEZONE
TZID:America/New_York
BEGIN:STANDARD
TZNAME:EST
DTSTART:20171105T020000
TZOFFSETFROM:-0400
TZOFFSETTO:-0500
RDATE:20181104T020000
END:STANDARD
BEGIN:DAYLIGHT
TZNAME:EDT
DTSTART:20180311T020000
TZOFFSETFROM:-0500
TZOFFSETTO:-0400
RDATE:20190310T020000
END:DAYLIGHT
END:VTIMEZONE
BEGIN:VEVENT
UID:2f47ded4-b65a-4757-9009-25a90ce8fc1a
DTSTAMP:20260423T133640Z
DESCRIPTION:
DTSTART;TZID=America/New_York:20180421T100000
DTEND;TZID=America/New_York:20180421T130000
LOCATION:Attleboro Arts Museum
SUMMARY:Attleboro Arts Museum & Lunch
END:VEVENT
END:VCALENDAR
