BEGIN:VCALENDAR
VERSION:2.0
PRODID:-//www.arcnbc.org//NONSGML kigkonsult.se iCalcreator 2.30.10//
CALSCALE:GREGORIAN
METHOD:PUBLISH
UID:52cbaf9b-20f2-4da3-8c60-284e2c29902c
X-WR-CALDESC:
X-WR-RELCALID:1f9fb2282615ddf163e3c82f0dcaacaa
X-WR-TIMEZONE:America/New_York
BEGIN:VTIMEZONE
TZID:America/New_York
BEGIN:STANDARD
TZNAME:EST
DTSTART:20171105T020000
TZOFFSETFROM:-0400
TZOFFSETTO:-0500
RDATE:20181104T020000
END:STANDARD
BEGIN:DAYLIGHT
TZNAME:EDT
DTSTART:20180311T020000
TZOFFSETFROM:-0500
TZOFFSETTO:-0400
RDATE:20190310T020000
END:DAYLIGHT
END:VTIMEZONE
BEGIN:VEVENT
UID:45061329-58a3-4ec7-8124-7ef80eb10768
DTSTAMP:20260423T133147Z
DESCRIPTION:
DTSTART;TZID=America/New_York:20180423T150000
DTEND;TZID=America/New_York:20180423T170000
LOCATION:TARC
SUMMARY:Indoor Exercise
END:VEVENT
END:VCALENDAR
