BEGIN:VCALENDAR
VERSION:2.0
PRODID:-//www.arcnbc.org//NONSGML kigkonsult.se iCalcreator 2.30.10//
CALSCALE:GREGORIAN
METHOD:PUBLISH
UID:12352c24-3aa4-4465-a12e-4858ee89b2bb
X-WR-CALDESC:
X-WR-RELCALID:b92e11d9ecbd0b22a51e36ab1976c18b
X-WR-TIMEZONE:America/New_York
BEGIN:VTIMEZONE
TZID:America/New_York
BEGIN:STANDARD
TZNAME:EST
DTSTART:20171105T020000
TZOFFSETFROM:-0400
TZOFFSETTO:-0500
RDATE:20181104T020000
END:STANDARD
BEGIN:DAYLIGHT
TZNAME:EDT
DTSTART:20180311T020000
TZOFFSETFROM:-0500
TZOFFSETTO:-0400
RDATE:20190310T020000
END:DAYLIGHT
END:VTIMEZONE
BEGIN:VEVENT
UID:684e19b8-31bd-4446-ac63-979d2eff4d04
DTSTAMP:20260423T151455Z
DESCRIPTION:
DTSTART;TZID=America/New_York:20180423T100000
DTEND;TZID=America/New_York:20180423T160000
LOCATION:Attleboro office
SUMMARY:Orientation\, Attleboro office
END:VEVENT
END:VCALENDAR
