BEGIN:VCALENDAR
VERSION:2.0
PRODID:-//www.arcnbc.org//NONSGML kigkonsult.se iCalcreator 2.30.10//
CALSCALE:GREGORIAN
METHOD:PUBLISH
UID:e603d2c1-f730-4ad8-af1a-da69da72f2cf
X-WR-CALDESC:
X-WR-RELCALID:8f698cd362f1228c1df30b896b1536c0
X-WR-TIMEZONE:America/New_York
BEGIN:VTIMEZONE
TZID:America/New_York
BEGIN:STANDARD
TZNAME:EST
DTSTART:20171105T020000
TZOFFSETFROM:-0400
TZOFFSETTO:-0500
RDATE:20181104T020000
END:STANDARD
BEGIN:DAYLIGHT
TZNAME:EDT
DTSTART:20180311T020000
TZOFFSETFROM:-0500
TZOFFSETTO:-0400
RDATE:20190310T020000
END:DAYLIGHT
END:VTIMEZONE
BEGIN:VEVENT
UID:3dd7f634-346b-4285-accb-74bca5a77885
DTSTAMP:20260423T133225Z
DESCRIPTION:
DTSTART;TZID=America/New_York:20180424T090000
DTEND;TZID=America/New_York:20180424T160000
LOCATION:Attleboro office
SUMMARY:NCI\, Attleboro office
END:VEVENT
END:VCALENDAR
