BEGIN:VCALENDAR
VERSION:2.0
PRODID:-//www.arcnbc.org//NONSGML kigkonsult.se iCalcreator 2.30.10//
CALSCALE:GREGORIAN
METHOD:PUBLISH
UID:df27e04c-7a20-4276-992e-64956a116647
X-WR-CALDESC:
X-WR-RELCALID:5f5b8cd1caaafb9fd0eaf44f161641f4
X-WR-TIMEZONE:America/New_York
BEGIN:VTIMEZONE
TZID:America/New_York
BEGIN:STANDARD
TZNAME:EST
DTSTART:20171105T020000
TZOFFSETFROM:-0400
TZOFFSETTO:-0500
RDATE:20181104T020000
END:STANDARD
BEGIN:DAYLIGHT
TZNAME:EDT
DTSTART:20180311T020000
TZOFFSETFROM:-0500
TZOFFSETTO:-0400
RDATE:20190310T020000
END:DAYLIGHT
END:VTIMEZONE
BEGIN:VEVENT
UID:d9a5f85a-fbd7-4fce-aef6-9a00924f0a54
DTSTAMP:20260423T133641Z
DESCRIPTION:
DTSTART;TZID=America/New_York:20180425T161500
DTEND;TZID=America/New_York:20180425T190000
LOCATION:Attleboro Arc Park Street
SUMMARY:Karate
END:VEVENT
END:VCALENDAR
