BEGIN:VCALENDAR
VERSION:2.0
PRODID:-//www.arcnbc.org//NONSGML kigkonsult.se iCalcreator 2.30.10//
CALSCALE:GREGORIAN
METHOD:PUBLISH
UID:50539fab-62e6-46ed-8036-6989198b35c8
X-WR-CALDESC:
X-WR-RELCALID:a4f6a8adbd1d8d1f911965c043cdeafd
X-WR-TIMEZONE:America/New_York
BEGIN:VTIMEZONE
TZID:America/New_York
BEGIN:STANDARD
TZNAME:EST
DTSTART:20171105T020000
TZOFFSETFROM:-0400
TZOFFSETTO:-0500
RDATE:20181104T020000
END:STANDARD
BEGIN:DAYLIGHT
TZNAME:EDT
DTSTART:20180311T020000
TZOFFSETFROM:-0500
TZOFFSETTO:-0400
RDATE:20190310T020000
END:DAYLIGHT
END:VTIMEZONE
BEGIN:VEVENT
UID:4cd861ad-f306-40d2-a97d-61c2f3f4b9c6
DTSTAMP:20260423T133144Z
DESCRIPTION:
DTSTART;TZID=America/New_York:20180426T150000
DTEND;TZID=America/New_York:20180426T160000
LOCATION:PACC - Taunton
SUMMARY:Fran's Dance
END:VEVENT
END:VCALENDAR
