BEGIN:VCALENDAR
VERSION:2.0
PRODID:-//www.arcnbc.org//NONSGML kigkonsult.se iCalcreator 2.30.10//
CALSCALE:GREGORIAN
METHOD:PUBLISH
UID:9d2f87b8-962f-49a8-9913-5697110f237e
X-WR-CALDESC:
X-WR-RELCALID:7ab94adf56186b3736cffb1ad79107e3
X-WR-TIMEZONE:America/New_York
BEGIN:VTIMEZONE
TZID:America/New_York
BEGIN:STANDARD
TZNAME:EST
DTSTART:20171105T020000
TZOFFSETFROM:-0400
TZOFFSETTO:-0500
RDATE:20181104T020000
END:STANDARD
BEGIN:DAYLIGHT
TZNAME:EDT
DTSTART:20180311T020000
TZOFFSETFROM:-0500
TZOFFSETTO:-0400
RDATE:20190310T020000
END:DAYLIGHT
END:VTIMEZONE
BEGIN:VEVENT
UID:f5db208a-1b23-429a-a20c-ac4fc33dfbb3
DTSTAMP:20260423T133957Z
DESCRIPTION:
DTSTART;TZID=America/New_York:20180429T183000
DTEND;TZID=America/New_York:20180429T220000
LOCATION:Cole Memorial Chapel\, Wheaton Colleg
SUMMARY:Spring Choir Concert\, Wheaton College
END:VEVENT
END:VCALENDAR
