BEGIN:VCALENDAR
VERSION:2.0
PRODID:-//www.arcnbc.org//NONSGML kigkonsult.se iCalcreator 2.30.10//
CALSCALE:GREGORIAN
METHOD:PUBLISH
UID:82ef79d5-7a2f-47b3-8b36-33e121573b55
X-WR-CALDESC:
X-WR-RELCALID:a824fdf8b8780596c2b2f6a48b31bb00
X-WR-TIMEZONE:America/New_York
BEGIN:VTIMEZONE
TZID:America/New_York
BEGIN:STANDARD
TZNAME:EST
DTSTART:20171105T020000
TZOFFSETFROM:-0400
TZOFFSETTO:-0500
RDATE:20181104T020000
END:STANDARD
BEGIN:DAYLIGHT
TZNAME:EDT
DTSTART:20180311T020000
TZOFFSETFROM:-0500
TZOFFSETTO:-0400
RDATE:20190310T020000
END:DAYLIGHT
END:VTIMEZONE
BEGIN:VEVENT
UID:8f19da5a-cc09-4529-9ffa-7847edb9e33d
DTSTAMP:20260423T133651Z
DESCRIPTION:
DTSTART;TZID=America/New_York:20180430T150000
DTEND;TZID=America/New_York:20180430T170000
LOCATION:TARC
SUMMARY:Games
END:VEVENT
END:VCALENDAR
