BEGIN:VCALENDAR
VERSION:2.0
PRODID:-//www.arcnbc.org//NONSGML kigkonsult.se iCalcreator 2.30.10//
CALSCALE:GREGORIAN
METHOD:PUBLISH
UID:7100b35a-b14e-4b2c-bf77-69dc1eb47db2
X-WR-CALDESC:
X-WR-RELCALID:83b74f96a3968ed263234b97f5fe3b98
X-WR-TIMEZONE:America/New_York
BEGIN:VTIMEZONE
TZID:America/New_York
BEGIN:STANDARD
TZNAME:EST
DTSTART:20171105T020000
TZOFFSETFROM:-0400
TZOFFSETTO:-0500
RDATE:20181104T020000
END:STANDARD
BEGIN:DAYLIGHT
TZNAME:EDT
DTSTART:20180311T020000
TZOFFSETFROM:-0500
TZOFFSETTO:-0400
RDATE:20190310T020000
END:DAYLIGHT
END:VTIMEZONE
BEGIN:VEVENT
UID:1e646919-3fc1-4e07-9041-c1be9afec2ac
DTSTAMP:20260423T133321Z
DESCRIPTION:
DTSTART;TZID=America/New_York:20180430T173000
DTEND;TZID=America/New_York:20180430T183000
LOCATION:Arc Attleboro Park St
SUMMARY:Self Advocacy Group
END:VEVENT
END:VCALENDAR
