BEGIN:VCALENDAR
VERSION:2.0
PRODID:-//www.arcnbc.org//NONSGML kigkonsult.se iCalcreator 2.30.10//
CALSCALE:GREGORIAN
METHOD:PUBLISH
UID:df998e61-d142-4633-893f-326c58ebbeea
X-WR-CALDESC:
X-WR-RELCALID:d9784f47dd33d773fa54778838ffce5d
X-WR-TIMEZONE:America/New_York
BEGIN:VTIMEZONE
TZID:America/New_York
BEGIN:STANDARD
TZNAME:EST
DTSTART:20171105T020000
TZOFFSETFROM:-0400
TZOFFSETTO:-0500
RDATE:20181104T020000
RDATE:20191103T020000
END:STANDARD
BEGIN:DAYLIGHT
TZNAME:EDT
DTSTART:20180311T020000
TZOFFSETFROM:-0500
TZOFFSETTO:-0400
RDATE:20190310T020000
END:DAYLIGHT
END:VTIMEZONE
BEGIN:VEVENT
UID:afc1b807-e590-46bf-88b6-70ae08ca566e
DTSTAMP:20260423T151042Z
DESCRIPTION:
DTSTART;TZID=America/New_York:20180508T100000
DTEND;TZID=America/New_York:20180508T160000
LOCATION:Smithfield office
SUMMARY:Orientation\, Smithfield
END:VEVENT
END:VCALENDAR
