BEGIN:VCALENDAR
VERSION:2.0
PRODID:-//www.arcnbc.org//NONSGML kigkonsult.se iCalcreator 2.30.10//
CALSCALE:GREGORIAN
METHOD:PUBLISH
UID:801cd5f0-5ed9-46ba-8c63-a34b801607ad
X-WR-CALDESC:Join us at the Memory Cafe\, a welcoming place for individuals
  living with memory changes and their care partners. Explore Spring flower
 s with us!
X-WR-RELCALID:875db5349cadf8628c649389056f9154
X-WR-TIMEZONE:America/New_York
BEGIN:VTIMEZONE
TZID:America/New_York
BEGIN:STANDARD
TZNAME:EST
DTSTART:20171105T020000
TZOFFSETFROM:-0400
TZOFFSETTO:-0500
RDATE:20181104T020000
RDATE:20191103T020000
END:STANDARD
BEGIN:DAYLIGHT
TZNAME:EDT
DTSTART:20180311T020000
TZOFFSETFROM:-0500
TZOFFSETTO:-0400
RDATE:20190310T020000
END:DAYLIGHT
END:VTIMEZONE
BEGIN:VEVENT
UID:b7b033b6-6db5-4530-86df-7cd9b04a640b
DTSTAMP:20260423T133044Z
DESCRIPTION:Join us at the Memory Cafe\, a welcoming place for individuals 
 living with memory changes and their care partners. Explore Spring flowers
  with us!
DTSTART;TZID=America/New_York:20180509T133000
DTEND;TZID=America/New_York:20180509T150000
LOCATION:Attleboro Public Library
SUMMARY:Memory Cafe
END:VEVENT
END:VCALENDAR
