BEGIN:VCALENDAR
VERSION:2.0
PRODID:-//www.arcnbc.org//NONSGML kigkonsult.se iCalcreator 2.30.10//
CALSCALE:GREGORIAN
METHOD:PUBLISH
UID:9628eb98-e14f-4d71-b0a7-4a33e309a14e
X-WR-CALDESC:
X-WR-RELCALID:372cfc3049663352c33ad5d8ffd85efc
X-WR-TIMEZONE:America/New_York
BEGIN:VTIMEZONE
TZID:America/New_York
BEGIN:STANDARD
TZNAME:EST
DTSTART:20171105T020000
TZOFFSETFROM:-0400
TZOFFSETTO:-0500
RDATE:20181104T020000
RDATE:20191103T020000
END:STANDARD
BEGIN:DAYLIGHT
TZNAME:EDT
DTSTART:20180311T020000
TZOFFSETFROM:-0500
TZOFFSETTO:-0400
RDATE:20190310T020000
END:DAYLIGHT
END:VTIMEZONE
BEGIN:VEVENT
UID:4ff72069-dfe0-43d0-b29e-63beec2eb681
DTSTAMP:20260423T133414Z
DESCRIPTION:
DTSTART;TZID=America/New_York:20180510T090000
DTEND;TZID=America/New_York:20180510T160000
LOCATION:Attleboro office
SUMMARY:First Aid/CPR\, Attleboro office
END:VEVENT
END:VCALENDAR
