BEGIN:VCALENDAR
VERSION:2.0
PRODID:-//www.arcnbc.org//NONSGML kigkonsult.se iCalcreator 2.30.10//
CALSCALE:GREGORIAN
METHOD:PUBLISH
UID:3af0b6a7-2cf5-4f9e-b8bf-f2045e19004a
X-WR-CALDESC:
X-WR-RELCALID:f48ee09eaf26db7cb5db83caf904dd00
X-WR-TIMEZONE:America/New_York
BEGIN:VTIMEZONE
TZID:America/New_York
BEGIN:STANDARD
TZNAME:EST
DTSTART:20171105T020000
TZOFFSETFROM:-0400
TZOFFSETTO:-0500
RDATE:20181104T020000
RDATE:20191103T020000
END:STANDARD
BEGIN:DAYLIGHT
TZNAME:EDT
DTSTART:20180311T020000
TZOFFSETFROM:-0500
TZOFFSETTO:-0400
RDATE:20190310T020000
END:DAYLIGHT
END:VTIMEZONE
BEGIN:VEVENT
UID:e8eba43e-6974-4c45-ba5c-cd9de3bd5cd6
DTSTAMP:20260423T133641Z
DESCRIPTION:
DTSTART;TZID=America/New_York:20180514T170000
DTEND;TZID=America/New_York:20180514T210000
LOCATION:
SUMMARY:Karaoke at Round 1
END:VEVENT
END:VCALENDAR
