BEGIN:VCALENDAR
VERSION:2.0
PRODID:-//www.arcnbc.org//NONSGML kigkonsult.se iCalcreator 2.30.10//
CALSCALE:GREGORIAN
METHOD:PUBLISH
UID:981ed00e-cd1f-494d-a0ac-5162cfcd0e23
X-WR-CALDESC:
X-WR-RELCALID:673f49325356049398832a3532dacadd
X-WR-TIMEZONE:America/New_York
BEGIN:VTIMEZONE
TZID:America/New_York
BEGIN:STANDARD
TZNAME:EST
DTSTART:20171105T020000
TZOFFSETFROM:-0400
TZOFFSETTO:-0500
RDATE:20181104T020000
RDATE:20191103T020000
END:STANDARD
BEGIN:DAYLIGHT
TZNAME:EDT
DTSTART:20180311T020000
TZOFFSETFROM:-0500
TZOFFSETTO:-0400
RDATE:20190310T020000
END:DAYLIGHT
END:VTIMEZONE
BEGIN:VEVENT
UID:dfcaabd6-e474-4e39-92a7-33d117d466ef
DTSTAMP:20260423T134024Z
DESCRIPTION:
DTSTART;TZID=America/New_York:20180516T090000
DTEND;TZID=America/New_York:20180516T160000
LOCATION:New Bedford office
SUMMARY:First Aid/CPR\, New Bedford office
END:VEVENT
END:VCALENDAR
