BEGIN:VCALENDAR
VERSION:2.0
PRODID:-//www.arcnbc.org//NONSGML kigkonsult.se iCalcreator 2.30.10//
CALSCALE:GREGORIAN
METHOD:PUBLISH
UID:cd25181f-2b8e-495b-99cd-63f17eb2d619
X-WR-CALDESC:
X-WR-RELCALID:0ed1879ef4c1dd774fc762af69251a08
X-WR-TIMEZONE:America/New_York
BEGIN:VTIMEZONE
TZID:America/New_York
BEGIN:STANDARD
TZNAME:EST
DTSTART:20171105T020000
TZOFFSETFROM:-0400
TZOFFSETTO:-0500
RDATE:20181104T020000
RDATE:20191103T020000
END:STANDARD
BEGIN:DAYLIGHT
TZNAME:EDT
DTSTART:20180311T020000
TZOFFSETFROM:-0500
TZOFFSETTO:-0400
RDATE:20190310T020000
END:DAYLIGHT
END:VTIMEZONE
BEGIN:VEVENT
UID:4a657660-3170-45f4-927f-492555cffb4e
DTSTAMP:20260423T133037Z
DESCRIPTION:
DTSTART;TZID=America/New_York:20180518T190000
DTEND;TZID=America/New_York:20180518T210000
LOCATION:Attleboro YMCA\, Pleasant St. Branch
SUMMARY:GO Night
END:VEVENT
END:VCALENDAR
