BEGIN:VCALENDAR
VERSION:2.0
PRODID:-//www.arcnbc.org//NONSGML kigkonsult.se iCalcreator 2.30.10//
CALSCALE:GREGORIAN
METHOD:PUBLISH
UID:2b1c677e-69f0-417e-b2c3-ac245b6193d3
X-WR-CALDESC:
X-WR-RELCALID:1db310923be4681b517dcb19a379250c
X-WR-TIMEZONE:America/New_York
BEGIN:VTIMEZONE
TZID:America/New_York
BEGIN:STANDARD
TZNAME:EST
DTSTART:20171105T020000
TZOFFSETFROM:-0400
TZOFFSETTO:-0500
RDATE:20181104T020000
RDATE:20191103T020000
END:STANDARD
BEGIN:DAYLIGHT
TZNAME:EDT
DTSTART:20180311T020000
TZOFFSETFROM:-0500
TZOFFSETTO:-0400
RDATE:20190310T020000
END:DAYLIGHT
END:VTIMEZONE
BEGIN:VEVENT
UID:832accad-b2c2-4d97-8918-2c6851e351dd
DTSTAMP:20260423T133347Z
DESCRIPTION:
DTSTART;TZID=America/New_York:20180519T130000
DTEND;TZID=America/New_York:20180519T170000
LOCATION:Stadium Theatre\, Woonsocket  RI
SUMMARY:Oh What a Night!
END:VEVENT
END:VCALENDAR
