BEGIN:VCALENDAR
VERSION:2.0
PRODID:-//www.arcnbc.org//NONSGML kigkonsult.se iCalcreator 2.30.10//
CALSCALE:GREGORIAN
METHOD:PUBLISH
UID:6a44f5f8-f17b-4b7f-af88-a9b9f7a235f2
X-WR-CALDESC:
X-WR-RELCALID:6835ba94cdf9c02da01ccb2c7784f9c2
X-WR-TIMEZONE:America/New_York
BEGIN:VTIMEZONE
TZID:America/New_York
BEGIN:STANDARD
TZNAME:EST
DTSTART:20171105T020000
TZOFFSETFROM:-0400
TZOFFSETTO:-0500
RDATE:20181104T020000
RDATE:20191103T020000
END:STANDARD
BEGIN:DAYLIGHT
TZNAME:EDT
DTSTART:20180311T020000
TZOFFSETFROM:-0500
TZOFFSETTO:-0400
RDATE:20190310T020000
END:DAYLIGHT
END:VTIMEZONE
BEGIN:VEVENT
UID:e1185142-b8b0-4c94-83f3-3e1271ba6770
DTSTAMP:20260423T133825Z
DESCRIPTION:
DTSTART;TZID=America/New_York:20180522T143000
DTEND;TZID=America/New_York:20180522T153000
LOCATION:TARC
SUMMARY:Zumba
END:VEVENT
END:VCALENDAR
