BEGIN:VCALENDAR
VERSION:2.0
PRODID:-//www.arcnbc.org//NONSGML kigkonsult.se iCalcreator 2.30.10//
CALSCALE:GREGORIAN
METHOD:PUBLISH
UID:6e3d91dd-0a2c-4b78-b959-38ce52582438
X-WR-CALDESC:Memorial Day Holiday\, all offices are closed
X-WR-RELCALID:081c83f611e7bc5db30c00cc0fdd219f
X-WR-TIMEZONE:America/New_York
BEGIN:VTIMEZONE
TZID:America/New_York
BEGIN:STANDARD
TZNAME:EST
DTSTART:20171105T020000
TZOFFSETFROM:-0400
TZOFFSETTO:-0500
RDATE:20181104T020000
RDATE:20191103T020000
END:STANDARD
BEGIN:DAYLIGHT
TZNAME:EDT
DTSTART:20180311T020000
TZOFFSETFROM:-0500
TZOFFSETTO:-0400
RDATE:20190310T020000
END:DAYLIGHT
END:VTIMEZONE
BEGIN:VEVENT
UID:8051e861-fb85-4deb-83ba-8f24ec012e05
DTSTAMP:20260423T133640Z
DESCRIPTION:Memorial Day Holiday\, all offices are closed
DTSTART;TZID=America/New_York:20180528T000000
DTEND;TZID=America/New_York:20180528T235900
LOCATION:All offices are closed
SUMMARY:Memorial Day Holiday
END:VEVENT
END:VCALENDAR
