BEGIN:VCALENDAR
VERSION:2.0
PRODID:-//www.arcnbc.org//NONSGML kigkonsult.se iCalcreator 2.30.10//
CALSCALE:GREGORIAN
METHOD:PUBLISH
UID:e56a41e3-edd1-4d02-a63a-e1ca29c6d956
X-WR-CALDESC:
X-WR-RELCALID:f1287c17341dd1faeb46557ccdda7039
X-WR-TIMEZONE:America/New_York
BEGIN:VTIMEZONE
TZID:America/New_York
BEGIN:STANDARD
TZNAME:EST
DTSTART:20171105T020000
TZOFFSETFROM:-0400
TZOFFSETTO:-0500
RDATE:20181104T020000
RDATE:20191103T020000
END:STANDARD
BEGIN:DAYLIGHT
TZNAME:EDT
DTSTART:20180311T020000
TZOFFSETFROM:-0500
TZOFFSETTO:-0400
RDATE:20190310T020000
END:DAYLIGHT
END:VTIMEZONE
BEGIN:VEVENT
UID:68ca83b6-050c-4181-b327-4b3423d1379e
DTSTAMP:20260423T133322Z
DESCRIPTION:
DTSTART;TZID=America/New_York:20180529T171500
DTEND;TZID=America/New_York:20180529T183000
LOCATION:The Arc\, Attleboro\, MA
SUMMARY:Self Advocacy Group
END:VEVENT
END:VCALENDAR
