BEGIN:VCALENDAR
VERSION:2.0
PRODID:-//www.arcnbc.org//NONSGML kigkonsult.se iCalcreator 2.30.10//
CALSCALE:GREGORIAN
METHOD:PUBLISH
UID:e72f7d86-9c94-42d9-98f8-2866fb30d91d
X-WR-CALDESC:
X-WR-RELCALID:dfc315d90ef0bd9205e709389e1d859c
X-WR-TIMEZONE:America/New_York
BEGIN:VTIMEZONE
TZID:America/New_York
BEGIN:STANDARD
TZNAME:EST
DTSTART:20171105T020000
TZOFFSETFROM:-0400
TZOFFSETTO:-0500
RDATE:20181104T020000
RDATE:20191103T020000
END:STANDARD
BEGIN:DAYLIGHT
TZNAME:EDT
DTSTART:20180311T020000
TZOFFSETFROM:-0500
TZOFFSETTO:-0400
RDATE:20190310T020000
END:DAYLIGHT
END:VTIMEZONE
BEGIN:VEVENT
UID:93eb5209-1899-4336-9940-21e502c63dd7
DTSTAMP:20260423T133144Z
DESCRIPTION:
DTSTART;TZID=America/New_York:20180531T190000
DTEND;TZID=America/New_York:20180531T210000
LOCATION:PACC - Taunton
SUMMARY:Fran's Dance
END:VEVENT
END:VCALENDAR
