BEGIN:VCALENDAR
VERSION:2.0
PRODID:-//www.arcnbc.org//NONSGML kigkonsult.se iCalcreator 2.30.10//
CALSCALE:GREGORIAN
METHOD:PUBLISH
UID:0502372c-58ce-435f-89ff-bb81e848950c
X-WR-CALDESC:
X-WR-RELCALID:207125dbe3e39efd8030a107595e7ea9
X-WR-TIMEZONE:America/New_York
BEGIN:VTIMEZONE
TZID:America/New_York
BEGIN:STANDARD
TZNAME:EST
DTSTART:20171105T020000
TZOFFSETFROM:-0400
TZOFFSETTO:-0500
RDATE:20181104T020000
RDATE:20191103T020000
END:STANDARD
BEGIN:DAYLIGHT
TZNAME:EDT
DTSTART:20180311T020000
TZOFFSETFROM:-0500
TZOFFSETTO:-0400
RDATE:20190310T020000
END:DAYLIGHT
END:VTIMEZONE
BEGIN:VEVENT
UID:449085fe-1276-4098-9f82-b3a675ebf028
DTSTAMP:20260423T133959Z
DESCRIPTION:
DTSTART;TZID=America/New_York:20180605T143000
DTEND;TZID=America/New_York:20180605T153000
LOCATION:TARC
SUMMARY:Zumba
END:VEVENT
END:VCALENDAR
