BEGIN:VCALENDAR
VERSION:2.0
PRODID:-//www.arcnbc.org//NONSGML kigkonsult.se iCalcreator 2.30.10//
CALSCALE:GREGORIAN
METHOD:PUBLISH
UID:2baf9126-7626-45d5-868f-f1890205711a
X-WR-CALDESC:Free event
X-WR-RELCALID:8229d8aaa1a17644d003fc2d19fd96cc
X-WR-TIMEZONE:America/New_York
BEGIN:VTIMEZONE
TZID:America/New_York
BEGIN:STANDARD
TZNAME:EST
DTSTART:20171105T020000
TZOFFSETFROM:-0400
TZOFFSETTO:-0500
RDATE:20181104T020000
RDATE:20191103T020000
END:STANDARD
BEGIN:DAYLIGHT
TZNAME:EDT
DTSTART:20180311T020000
TZOFFSETFROM:-0500
TZOFFSETTO:-0400
RDATE:20190310T020000
END:DAYLIGHT
END:VTIMEZONE
BEGIN:VEVENT
UID:12fc921c-6111-476e-94a0-25f85bc35955
DTSTAMP:20260423T133848Z
DESCRIPTION:Free event
DTSTART;TZID=America/New_York:20180605T180000
DTEND;TZID=America/New_York:20180605T200000
LOCATION:Finsburg Field\, Attleboro
SUMMARY:Softball
END:VEVENT
END:VCALENDAR
